BEGIN:VCALENDAR
VERSION:2.0
PRODID:-//eventon.com NONSGML v1.0//EN
CALSCALE:GREGORIAN
METHOD:PUBLISH
BEGIN:VEVENT
UID:69e733b8e468c
DTSTAMP:20260421T082216Z
DTSTART:20200919T083000Z
DTEND:20200919T220000Z
LOCATION:
SUMMARY:Unit Two | Online
DESCRIPTION:Unit Two Online Course details Saturday  September 19| 8hr ses
 sion Beginning: 8.30am (WA)\,  10.00am (SA)\,  10.30am (NSW\,  VIC\,  QLD) 
 Saturday  October 3| 8hr session Beginning: 8.30am (WA)\,  10.00am (SA)\, 
  10.30am (NSW\,  VIC\,  QLD) &nbsp; Register for Online Course using button
  below.\nhttps://elijahhouse.com.au/events/unit-two-online/
URL:https://elijahhouse.com.au/events/unit-two-online/
END:VEVENT
END:VCALENDAR