BEGIN:VCALENDAR
VERSION:2.0
PRODID:-//eventon.com NONSGML v1.0//EN
CALSCALE:GREGORIAN
METHOD:PUBLISH
BEGIN:VEVENT
UID:69e6053deac56
DTSTAMP:20260420T105141Z
DTSTART:20241025T010000Z
DTEND:20241026T090000Z
LOCATION:
SUMMARY:Unit 2: Dare to Trust - Australind WA
DESCRIPTION:Unit 2: Dare to Trust from Keys to transformation series &nbsp;
  Dates:  Friday 25th October &#8211; Saturday 26th October Times: 9am &#
 8211; 5pm Address:  St. Nicholas Anglican Church\,  Paris Rd. Australind\
 ,  Western Australia Cost: $155 ea OR $135 if you are repeating this unit
  PRE-REQUISITES: ALL STUDENTS MUST HAVE COMPLETED UNIT 1 PRIOR TO REGISTERI
 NG[..]\nhttps://elijahhouse.com.au/events/unit-2-dare-to-trust-australind-w
 a/
URL:https://elijahhouse.com.au/events/unit-2-dare-to-trust-australind-wa/
END:VEVENT
END:VCALENDAR