BEGIN:VCALENDAR
VERSION:2.0
PRODID:-//eventon.com NONSGML v1.0//EN
CALSCALE:GREGORIAN
METHOD:PUBLISH
BEGIN:VEVENT
UID:69e733d4ac9da
DTSTAMP:20260421T082244Z
DTSTART:20241129T230000Z
DTEND:20241130T020000Z
LOCATION:
SUMMARY:Light the Fire Again (Online)
DESCRIPTION:LIGHT THE FIRE AGAIN Training Event by Sandra Sellmer-Kersten &
 nbsp; If you have a heart to pray for others\,  or do prayer ministry\,  th
 is training event will stir a fresh fire in you to be equipped and ‘step 
 out’. As well as training for longer ministry periods\,  Sandra will also
 [..]\nhttps://elijahhouse.com.au/events/light-the-fire-again-online/
URL:https://elijahhouse.com.au/events/light-the-fire-again-online/
END:VEVENT
END:VCALENDAR