BEGIN:VCALENDAR
VERSION:2.0
PRODID:-//eventon.com NONSGML v1.0//EN
CALSCALE:GREGORIAN
METHOD:PUBLISH
BEGIN:VEVENT
UID:69eb449d2d31e
DTSTAMP:20260424T102325Z
DTSTART:20260612T005000Z
DTEND:20260613T091500Z
LOCATION:St Nicholas Church Australind\,  WA St Nicholas Church Australind\,  9-11 Paris Rd Australind 6233
SUMMARY:Unit 1 Restoring Foundations In-Person June WA
DESCRIPTION:Unit 1 Event Details RESTORING FOUNDATIONS (KTT) Keys to Transf
 ormation teaching series UNIT 1 In-person Event Event Venue: St Nicholas ch
 urch 9-11 Paris Rd Australind WA 6233 Timezone:  AWST Course Start Date: 
 5  June when the links for the videos are sent Session Dates/Times (You mu
 st attend all sessions) Friday[..]\nhttps://elijahhouse.com.au/events/unit-
 1-restoring-foundations-in-person-june-wa/
URL:https://elijahhouse.com.au/events/unit-1-restoring-foundations-in-person-june-wa/
END:VEVENT
END:VCALENDAR