BEGIN:VCALENDAR
VERSION:2.0
PRODID:-//eventon.com NONSGML v1.0//EN
CALSCALE:GREGORIAN
METHOD:PUBLISH
BEGIN:VEVENT
UID:69e601379a785
DTSTAMP:20260420T103431Z
DTSTART:20260612T005000Z
DTEND:20260613T091500Z
LOCATION:St Nicholas Church Australind\,  WA St Nicholas Church Australind\,  9-11 Paris Rd Australind 6233
SUMMARY:Unit 8 Clean and Effective Prayer In-Person June WA
DESCRIPTION:Unit 8  Event Details  CLEAN AND EFFECTIVE   (KTT) Keys to
  Transformation teaching series UNIT 8 In-person Event Event Venue:  St
  Nicholas church  9-11 Paris Rd  Australind WA 6233 Timezone:AWST Course 
 Start Date: 5  June when the links for the videos are sent Session Dates/T
 imes (You must attend all sessions) Friday 12th June | 8:50 AM-5:15[..]\nh
 ttps://elijahhouse.com.au/events/unit-8-clean-and-effective-prayer-in-perso
 n-june-wa/
URL:https://elijahhouse.com.au/events/unit-8-clean-and-effective-prayer-in-person-june-wa/
END:VEVENT
END:VCALENDAR